BEGIN:VCALENDAR
VERSION:2.0
PRODID:icalendar-ruby
CALSCALE:GREGORIAN
BEGIN:VTIMEZONE
TZID:Europe/Berlin
BEGIN:DAYLIGHT
DTSTART:20260329T030000
TZOFFSETFROM:+0100
TZOFFSETTO:+0200
RRULE:FREQ=YEARLY;BYDAY=-1SU;BYMONTH=3
TZNAME:CEST
END:DAYLIGHT
BEGIN:STANDARD
DTSTART:20261025T020000
TZOFFSETFROM:+0200
TZOFFSETTO:+0100
RRULE:FREQ=YEARLY;BYDAY=-1SU;BYMONTH=10
TZNAME:CET
END:STANDARD
END:VTIMEZONE
BEGIN:VEVENT
DTSTAMP:20260423T091302Z
UID:29364
DTSTART;TZID=Europe/Berlin:20260509T150000
DTEND;TZID=Europe/Berlin:20260509T160000
CREATED:20260417T083258
DESCRIPTION:Event: Chorkonzert "Junge Stimmen"\n\nNetzwerk: Kreischorverban
 d NordwestPfalz e. V.\n\nOrt: Bürgerhaus Münchweiler a. d. Alsenz\n\nBes
 chreibung: Die "S(w)inging Kids" Münchweiler und "Hast du Töne" Hochstei
 n laden zu einem fröhlichen Konzert zum Zuhören und auch Mitsingen ins B
 ürgerhaus in Münchweiler ein!\n\nDie beiden Kinder- und Jugendchöre mö
 chten ihre frisch einstudierten\, neuen Lieder präsentieren\, aber auch m
 it allen gemeinsam singen und den Zauber des Gesangs teilen.\n\nIn der Pau
 se gibt es Kuchen\, Brezeln\, Snacks und Erfrischungsgetränke.\n\n\nTermi
 nkategorie: Konzert\n\nhttp://www.kcv-nordwestpfalz.de\n\nwww.blankmusic.o
 rg
GEO:49.5508117;7.8874188
LAST-MODIFIED:20260417T083258
LOCATION:Bürgerhaus Münchweiler a. d. Alsenz\, Bahnpfad 1\, 67728 Münchw
 eiler an der Alsenz\, Deutschland
SUMMARY:Chorkonzert "Junge Stimmen"
URL;VALUE=URI:https://www.kcv-nordwestpfalz.de/performances?performance_id=
 29364#performance_29364
X-ALT-DESC;FMTTYPE=text/html:Event: <i>Chorkonzert "Junge Stimmen"</i><br><
 br>Netzwerk: <i>Kreischorverband NordwestPfalz e. V.</i><br><br>Ort: <i>B
 ürgerhaus Münchweiler a. d. Alsenz</i><br><br>Beschreibung: <i>Die "S(w)
 inging Kids" Münchweiler und "Hast du Töne" Hochstein laden zu einem fr
 öhlichen Konzert zum Zuhören und auch Mitsingen ins Bürgerhaus in Münc
 hweiler ein!\n\nDie beiden Kinder- und Jugendchöre möchten ihre frisch e
 instudierten\, neuen Lieder präsentieren\, aber auch mit allen gemeinsam 
 singen und den Zauber des Gesangs teilen.\n\nIn der Pause gibt es Kuchen\,
  Brezeln\, Snacks und Erfrischungsgetränke.\n</i><br><br>Terminkategorie:
  <i>Konzert</i><br><br>http://www.kcv-nordwestpfalz.de<br><br>www.blankmus
 ic.org
END:VEVENT
END:VCALENDAR
